BEGIN:VCALENDAR
VERSION:2.0
PRODID:-//Fort Wayne DIY Shows - ECPv6.15.17.1//NONSGML v1.0//EN
CALSCALE:GREGORIAN
METHOD:PUBLISH
X-WR-CALNAME:Fort Wayne DIY Shows
X-ORIGINAL-URL:https://fortwaynediyshows.com
X-WR-CALDESC:Events for Fort Wayne DIY Shows
REFRESH-INTERVAL;VALUE=DURATION:PT1H
X-Robots-Tag:noindex
X-PUBLISHED-TTL:PT1H
BEGIN:VTIMEZONE
TZID:America/Indiana/Indianapolis
BEGIN:DAYLIGHT
TZOFFSETFROM:-0500
TZOFFSETTO:-0400
TZNAME:EDT
DTSTART:20240310T070000
END:DAYLIGHT
BEGIN:STANDARD
TZOFFSETFROM:-0400
TZOFFSETTO:-0500
TZNAME:EST
DTSTART:20241103T060000
END:STANDARD
BEGIN:DAYLIGHT
TZOFFSETFROM:-0500
TZOFFSETTO:-0400
TZNAME:EDT
DTSTART:20250309T070000
END:DAYLIGHT
BEGIN:STANDARD
TZOFFSETFROM:-0400
TZOFFSETTO:-0500
TZNAME:EST
DTSTART:20251102T060000
END:STANDARD
BEGIN:DAYLIGHT
TZOFFSETFROM:-0500
TZOFFSETTO:-0400
TZNAME:EDT
DTSTART:20260308T070000
END:DAYLIGHT
BEGIN:STANDARD
TZOFFSETFROM:-0400
TZOFFSETTO:-0500
TZNAME:EST
DTSTART:20261101T060000
END:STANDARD
END:VTIMEZONE
BEGIN:VEVENT
DTSTART;TZID=America/Indiana/Indianapolis:20250315T190000
DTEND;TZID=America/Indiana/Indianapolis:20250315T220000
DTSTAMP:20260419T102005
CREATED:20250221T145924Z
LAST-MODIFIED:20250228T171744Z
UID:86-1742065200-1742076000@fortwaynediyshows.com
SUMMARY:Search Warrant\, Staring Contest\, Colossal Man\, Sundaze
DESCRIPTION:All Ages\, $10 Cash
URL:https://fortwaynediyshows.com/event/search-warrant-staring-contest-colossal-man/
LOCATION:The Bug House
ATTACH;FMTTYPE=image/jpeg:https://fortwaynediyshows.com/wp-content/uploads/2025/02/03.15.25-BUGHOUSE-2-copy.jpeg
END:VEVENT
END:VCALENDAR