BEGIN:VCALENDAR
VERSION:2.0
PRODID:-//Fort Wayne DIY Shows - ECPv6.15.17.1//NONSGML v1.0//EN
CALSCALE:GREGORIAN
METHOD:PUBLISH
X-WR-CALNAME:Fort Wayne DIY Shows
X-ORIGINAL-URL:https://fortwaynediyshows.com
X-WR-CALDESC:Events for Fort Wayne DIY Shows
REFRESH-INTERVAL;VALUE=DURATION:PT1H
X-Robots-Tag:noindex
X-PUBLISHED-TTL:PT1H
BEGIN:VTIMEZONE
TZID:America/Indiana/Indianapolis
BEGIN:DAYLIGHT
TZOFFSETFROM:-0500
TZOFFSETTO:-0400
TZNAME:EDT
DTSTART:20240310T070000
END:DAYLIGHT
BEGIN:STANDARD
TZOFFSETFROM:-0400
TZOFFSETTO:-0500
TZNAME:EST
DTSTART:20241103T060000
END:STANDARD
BEGIN:DAYLIGHT
TZOFFSETFROM:-0500
TZOFFSETTO:-0400
TZNAME:EDT
DTSTART:20250309T070000
END:DAYLIGHT
BEGIN:STANDARD
TZOFFSETFROM:-0400
TZOFFSETTO:-0500
TZNAME:EST
DTSTART:20251102T060000
END:STANDARD
BEGIN:DAYLIGHT
TZOFFSETFROM:-0500
TZOFFSETTO:-0400
TZNAME:EDT
DTSTART:20260308T070000
END:DAYLIGHT
BEGIN:STANDARD
TZOFFSETFROM:-0400
TZOFFSETTO:-0500
TZNAME:EST
DTSTART:20261101T060000
END:STANDARD
END:VTIMEZONE
BEGIN:VEVENT
DTSTART;TZID=America/Indiana/Indianapolis:20250426T190000
DTEND;TZID=America/Indiana/Indianapolis:20250426T230000
DTSTAMP:20260419T084646
CREATED:20250213T201151Z
LAST-MODIFIED:20250324T202450Z
UID:79-1745694000-1745708400@fortwaynediyshows.com
SUMMARY:Spent Case\, Suffering\, Pissant\, Torture Realm\, Still Burning\, Swamp Lion\, Pig Tusk
DESCRIPTION:All Ages\, $15 cash at the door\, 21+ to drink
URL:https://fortwaynediyshows.com/event/still-burning-sundaze-swamp-lion-cicada-asterisk/
LOCATION:Legion Post 241\, 7605 Bluffton Rd\, Fort Wayne\, IN\, 46835\, United States
ATTACH;FMTTYPE=image/jpeg:https://fortwaynediyshows.com/wp-content/uploads/2025/02/Spent-Case.jpg
END:VEVENT
END:VCALENDAR