BEGIN:VCALENDAR
VERSION:2.0
PRODID:-//Fort Wayne DIY Shows - ECPv6.15.20//NONSGML v1.0//EN
CALSCALE:GREGORIAN
METHOD:PUBLISH
X-WR-CALNAME:Fort Wayne DIY Shows
X-ORIGINAL-URL:https://fortwaynediyshows.com
X-WR-CALDESC:Events for Fort Wayne DIY Shows
REFRESH-INTERVAL;VALUE=DURATION:PT1H
X-Robots-Tag:noindex
X-PUBLISHED-TTL:PT1H
BEGIN:VTIMEZONE
TZID:America/Indiana/Indianapolis
BEGIN:DAYLIGHT
TZOFFSETFROM:-0500
TZOFFSETTO:-0400
TZNAME:EDT
DTSTART:20250309T070000
END:DAYLIGHT
BEGIN:STANDARD
TZOFFSETFROM:-0400
TZOFFSETTO:-0500
TZNAME:EST
DTSTART:20251102T060000
END:STANDARD
BEGIN:DAYLIGHT
TZOFFSETFROM:-0500
TZOFFSETTO:-0400
TZNAME:EDT
DTSTART:20260308T070000
END:DAYLIGHT
BEGIN:STANDARD
TZOFFSETFROM:-0400
TZOFFSETTO:-0500
TZNAME:EST
DTSTART:20261101T060000
END:STANDARD
BEGIN:DAYLIGHT
TZOFFSETFROM:-0500
TZOFFSETTO:-0400
TZNAME:EDT
DTSTART:20270314T070000
END:DAYLIGHT
BEGIN:STANDARD
TZOFFSETFROM:-0400
TZOFFSETTO:-0500
TZNAME:EST
DTSTART:20271107T060000
END:STANDARD
END:VTIMEZONE
BEGIN:VEVENT
DTSTART;TZID=America/Indiana/Indianapolis:20260411T190000
DTEND;TZID=America/Indiana/Indianapolis:20260411T230000
DTSTAMP:20260423T172122
CREATED:20260323T201138Z
LAST-MODIFIED:20260323T201138Z
UID:335-1775934000-1775948400@fortwaynediyshows.com
SUMMARY:Food Not Bombs Fundraiser - Slumber\, Disposal Unit\, Blindspot\, Hospitality\, Starscourge
DESCRIPTION:All Ages\, 7PM\, $10 Cash Only PWYC\, No Drugs\, No Booze\, No Bullshit
URL:https://fortwaynediyshows.com/event/food-not-bombs-fundraiser-slumber-disposal-unit-blindspot-hospitality-starscourge/
LOCATION:The Bug House
ATTACH;FMTTYPE=image/jpeg:https://fortwaynediyshows.com/wp-content/uploads/2026/03/Food-Not-Bombs-Slumber-Disposal-Unit.jpg
END:VEVENT
BEGIN:VEVENT
DTSTART;TZID=America/Indiana/Indianapolis:20260414T190000
DTEND;TZID=America/Indiana/Indianapolis:20260414T230000
DTSTAMP:20260423T172122
CREATED:20260323T202013Z
LAST-MODIFIED:20260323T202013Z
UID:346-1776193200-1776207600@fortwaynediyshows.com
SUMMARY:Havana Syndrome\, Intel\, Semi-Illegal Tribute
DESCRIPTION:All Ages\, 7PM\, $10 Cash Only PWYC\, No Drugs\, No Booze
URL:https://fortwaynediyshows.com/event/havana-syndrome-intel-semi-illegal-tribute/
LOCATION:The Bug House
ATTACH;FMTTYPE=image/jpeg:https://fortwaynediyshows.com/wp-content/uploads/2026/03/havana-syndrome-bug-house-scaled.jpg
END:VEVENT
BEGIN:VEVENT
DTSTART;TZID=America/Indiana/Indianapolis:20260417T190000
DTEND;TZID=America/Indiana/Indianapolis:20260417T230000
DTSTAMP:20260423T172122
CREATED:20260323T201413Z
LAST-MODIFIED:20260323T201413Z
UID:338-1776452400-1776466800@fortwaynediyshows.com
SUMMARY:Geese Teeth\, The High Cost Of Playing God\, Sparkle Teeth\, Etymon\, Step 7
DESCRIPTION:All Ages\, $10 Cash Only PWYC\, No Booze\, No Drugs\, Respect the space
URL:https://fortwaynediyshows.com/event/geese-teeth-the-high-cost-of-playing-god-sparkle-teeth-etymon-step-7/
LOCATION:The Rat’s Nest\, Fort Wayne\, IN\, United States
ATTACH;FMTTYPE=image/jpeg:https://fortwaynediyshows.com/wp-content/uploads/2026/03/Sparkle-Teeth-Geese-Teeth-High-Cost-of-Playing-God.jpg
END:VEVENT
BEGIN:VEVENT
DTSTART;TZID=America/Indiana/Indianapolis:20260421T190000
DTEND;TZID=America/Indiana/Indianapolis:20260421T230000
DTSTAMP:20260423T172122
CREATED:20260323T201612Z
LAST-MODIFIED:20260323T201709Z
UID:342-1776798000-1776812400@fortwaynediyshows.com
SUMMARY:Realms of Death\, Still Burning\, Starscourge\, Progenitor
DESCRIPTION:All Ages\, 7PM\, $10 PWYC\, No Drugs\, No Booze
URL:https://fortwaynediyshows.com/event/realms-of-death-still-burning-starscourge-progenitor/
LOCATION:The Bug House
ATTACH;FMTTYPE=image/webp:https://fortwaynediyshows.com/wp-content/uploads/2026/03/Still-Burning-April-21-2026.webp
END:VEVENT
BEGIN:VEVENT
DTSTART;TZID=America/Indiana/Indianapolis:20260428T190000
DTEND;TZID=America/Indiana/Indianapolis:20260428T230000
DTSTAMP:20260423T172122
CREATED:20260423T155026Z
LAST-MODIFIED:20260423T155026Z
UID:350-1777402800-1777417200@fortwaynediyshows.com
SUMMARY:No Guard\, Basic Needs\, Velocity\, Colossal Man
DESCRIPTION:7PM\, $10 Cash Only\, All Ages\, No Booze\, No Drugs
URL:https://fortwaynediyshows.com/event/no-guard-basic-needs-velocity-colossal-man/
LOCATION:The Bug House
ATTACH;FMTTYPE=image/jpeg:https://fortwaynediyshows.com/wp-content/uploads/2026/04/NO-GUARD-FLYER-scaled.jpg
END:VEVENT
BEGIN:VEVENT
DTSTART;TZID=America/Indiana/Indianapolis:20260508T190000
DTEND;TZID=America/Indiana/Indianapolis:20260508T230000
DTSTAMP:20260423T172122
CREATED:20260423T155315Z
LAST-MODIFIED:20260423T155315Z
UID:353-1778266800-1778281200@fortwaynediyshows.com
SUMMARY:Will To Power\, Moretta\, Torture Realm\, Dipt
DESCRIPTION:7PM\, All Ages\, $10 Cash Only PWYC\, No Booze\, No Drugs
URL:https://fortwaynediyshows.com/event/will-to-power-moretta-torture-realm-dipt/
LOCATION:The Bug House
ATTACH;FMTTYPE=image/jpeg:https://fortwaynediyshows.com/wp-content/uploads/2026/04/Will-To-Power-Flyer.jpg
END:VEVENT
BEGIN:VEVENT
DTSTART;TZID=America/Indiana/Indianapolis:20260520T190000
DTEND;TZID=America/Indiana/Indianapolis:20260520T230000
DTSTAMP:20260423T172122
CREATED:20260423T155747Z
LAST-MODIFIED:20260423T155747Z
UID:357-1779303600-1779318000@fortwaynediyshows.com
SUMMARY:Contempt\, About Face\, Flip The Switch\, X-Force\, What Counts
DESCRIPTION:All Ages\, 7PM\, $15 Cash Only\, No Booze\, No Drugs
URL:https://fortwaynediyshows.com/event/contempt-about-face-flip-the-switch-x-force-what-counts/
LOCATION:The Bug House
ATTACH;FMTTYPE=image/jpeg:https://fortwaynediyshows.com/wp-content/uploads/2026/04/FLYER-V2-2-scaled.jpg
END:VEVENT
BEGIN:VEVENT
DTSTART;TZID=America/Indiana/Indianapolis:20260529T190000
DTEND;TZID=America/Indiana/Indianapolis:20260529T230000
DTSTAMP:20260423T172122
CREATED:20260423T155958Z
LAST-MODIFIED:20260423T160111Z
UID:360-1780081200-1780095600@fortwaynediyshows.com
SUMMARY:Absolute Truth\, Rig Time\, Cueball\, Taste The Pill
DESCRIPTION:7PM\, All Ages\, $10 Cash Only\, No Booze\, No Drugs
URL:https://fortwaynediyshows.com/event/absolute-truth-rig-time-cueball-taste-the-pill/
LOCATION:The Bug House
ATTACH;FMTTYPE=image/jpeg:https://fortwaynediyshows.com/wp-content/uploads/2026/04/6ACDC99A-323E-4CAE-A79C-07809050E9A4.jpg
END:VEVENT
END:VCALENDAR